BEGIN:VCALENDAR
VERSION:2.0
PRODID:-//jEvents 2.0 for Joomla//EN
CALSCALE:GREGORIAN
METHOD:PUBLISH
BEGIN:VTIMEZONE
TZID:Europe/Berlin
BEGIN:STANDARD
DTSTART:20241027T020000
RDATE:20250330T030000
TZOFFSETFROM:+0200
TZOFFSETTO:+0100
TZNAME:Europe/Berlin CET
END:STANDARD
BEGIN:STANDARD
DTSTART:20251026T020000
RDATE:20260329T030000
TZOFFSETFROM:+0200
TZOFFSETTO:+0100
TZNAME:Europe/Berlin CET
END:STANDARD
BEGIN:STANDARD
DTSTART:20261025T020000
RDATE:20270328T030000
TZOFFSETFROM:+0200
TZOFFSETTO:+0100
TZNAME:Europe/Berlin CET
END:STANDARD
BEGIN:DAYLIGHT
DTSTART:20240403T180000
RDATE:20241027T020000
TZOFFSETFROM:+0100
TZOFFSETTO:+0200
TZNAME:Europe/Berlin CEST
END:DAYLIGHT
BEGIN:DAYLIGHT
DTSTART:20250330T030000
RDATE:20251026T020000
TZOFFSETFROM:+0100
TZOFFSETTO:+0200
TZNAME:Europe/Berlin CEST
END:DAYLIGHT
BEGIN:DAYLIGHT
DTSTART:20260329T030000
RDATE:20261025T020000
TZOFFSETFROM:+0100
TZOFFSETTO:+0200
TZNAME:Europe/Berlin CEST
END:DAYLIGHT
END:VTIMEZONE
BEGIN:VEVENT
UID:1d40f8f2caf799a26edf01c4dede1e1d
CATEGORIES:Unterstadt, Kinder
CREATED:20250402T112232
SUMMARY:Familien in Bewegung
LOCATION:Gymnastikhalle Johannes-Kepler-Schulen
DESCRIPTION;ENCODING=QUOTED-PRINTABLE:<p>Bewegungsangebot für Kinder von 4 - 8 Jahren und ihre Eltern / Omas / Op
 as oder andere Begleitpersonen. Achtung: Familien in Bewegung findet ab 20.
 03.2025 immer donnerstags, 18.00 - 19.30 Uhr statt. <br />Interessierte mel
 den sich gerne unter <a href="mailto:familienklatsch@ma-unterstadt.de"></a>
 <span id="cloak52630c8bd552bbc87a2ef1ba69c29f34">Diese E-Mail-Adresse ist v
 or Spambots geschützt! Zur Anzeige muss JavaScript eingeschaltet sein!</spa
 n><script type='text/javascript'>
				document.getElementById('cloak52630c8
 bd552bbc87a2ef1ba69c29f34').innerHTML = '';
				var prefix = '&#109;a' + 'i
 &#108;' + '&#116;o';
				var path = 'hr' + 'ef' + '=';
				var addy52630c8b
 d552bbc87a2ef1ba69c29f34 = 'f&#97;m&#105;l&#105;&#101;nkl&#97;tsch' + '&#64
 ;';
				addy52630c8bd552bbc87a2ef1ba69c29f34 = addy52630c8bd552bbc87a2ef1ba
 69c29f34 + 'm&#97;-&#117;nt&#101;rst&#97;dt' + '&#46;' + 'd&#101;';
				var
  addy_text52630c8bd552bbc87a2ef1ba69c29f34 = 'f&#97;m&#105;l&#105;&#101;nkl
 &#97;tsch' + '&#64;' + 'm&#97;-&#117;nt&#101;rst&#97;dt' + '&#46;' + 'd&#10
 1;';document.getElementById('cloak52630c8bd552bbc87a2ef1ba69c29f34').innerH
 TML += '<a ' + path + '\'' + prefix + ':' + addy52630c8bd552bbc87a2ef1ba69c
 29f34 + '\'>'+addy_text52630c8bd552bbc87a2ef1ba69c29f34+'<\/a>';
		</script
 > oder per Telefon unter 0621 7873.</p><p>Eine Kooperation von Begegnungsst
 ätte Westliche Unterstadt e. V. und Quartiermanagement Unterstadt mit freun
 dlicher Unterstützung des Beauftragten für Integration und Migration der St
 adt Mannheim.</p>
DTSTAMP:20260422T121707Z
DTSTART;TZID=Europe/Berlin:20250404T180000
DTEND;TZID=Europe/Berlin:20250404T193000
SEQUENCE:0
TRANSP:OPAQUE
END:VEVENT
END:VCALENDAR