BEGIN:VCALENDAR
VERSION:2.0
PRODID:-//jEvents 2.0 for Joomla//EN
CALSCALE:GREGORIAN
METHOD:PUBLISH
BEGIN:VTIMEZONE
TZID:Europe/Berlin
BEGIN:STANDARD
DTSTART:20231029T020000
RDATE:20240331T030000
TZOFFSETFROM:+0200
TZOFFSETTO:+0100
TZNAME:Europe/Berlin CET
END:STANDARD
BEGIN:STANDARD
DTSTART:20241027T020000
RDATE:20250330T030000
TZOFFSETFROM:+0200
TZOFFSETTO:+0100
TZNAME:Europe/Berlin CET
END:STANDARD
BEGIN:STANDARD
DTSTART:20251026T020000
RDATE:20260329T030000
TZOFFSETFROM:+0200
TZOFFSETTO:+0100
TZNAME:Europe/Berlin CET
END:STANDARD
BEGIN:STANDARD
DTSTART:20261025T020000
RDATE:20270328T030000
TZOFFSETFROM:+0200
TZOFFSETTO:+0100
TZNAME:Europe/Berlin CET
END:STANDARD
BEGIN:DAYLIGHT
DTSTART:20231017T100000
RDATE:20231029T020000
TZOFFSETFROM:+0100
TZOFFSETTO:+0200
TZNAME:Europe/Berlin CEST
END:DAYLIGHT
BEGIN:DAYLIGHT
DTSTART:20240331T030000
RDATE:20241027T020000
TZOFFSETFROM:+0100
TZOFFSETTO:+0200
TZNAME:Europe/Berlin CEST
END:DAYLIGHT
BEGIN:DAYLIGHT
DTSTART:20250330T030000
RDATE:20251026T020000
TZOFFSETFROM:+0100
TZOFFSETTO:+0200
TZNAME:Europe/Berlin CEST
END:DAYLIGHT
BEGIN:DAYLIGHT
DTSTART:20260329T030000
RDATE:20261025T020000
TZOFFSETFROM:+0100
TZOFFSETTO:+0200
TZNAME:Europe/Berlin CEST
END:DAYLIGHT
END:VTIMEZONE
BEGIN:VEVENT
UID:bd09b029ab81a61b6e20b128e1308c62
CATEGORIES:Unterstadt, Kinder
CREATED:20241011T103031
SUMMARY:Familienklatsch aktiv - Angebote für Familien
LOCATION:Café Filsbach
DESCRIPTION;ENCODING=QUOTED-PRINTABLE:\n\nDer Familienklatsch wird aktiv, stellt Angebote für Familien im Quartie
 r vor und lädt zum Kennen lernen, Fragen stellen und Ausprobieren ein.\n\n\
 nEine Kooperation von Begegnungsstätte Westliche Unterstadt und Quartierman
 agement Unterstadt mit freundlicher Unterstützung des Beauftragten für Migr
 ation und Integration der Stadt Mannheim. Eintritt: frei\n\n\n&nbsp;\n\n\n.
 \n
DTSTAMP:20260423T122659Z
DTSTART;TZID=Europe/Berlin:20241017T100000
DTEND;TZID=Europe/Berlin:20241017T120000
SEQUENCE:0
TRANSP:OPAQUE
END:VEVENT
END:VCALENDAR