BEGIN:VCALENDAR
VERSION:2.0
PRODID:-//jEvents 2.0 for Joomla//EN
CALSCALE:GREGORIAN
METHOD:PUBLISH
BEGIN:VTIMEZONE
TZID:Europe/Berlin
BEGIN:STANDARD
DTSTART:20231029T020000
RDATE:20240331T030000
TZOFFSETFROM:+0200
TZOFFSETTO:+0100
TZNAME:Europe/Berlin CET
END:STANDARD
BEGIN:STANDARD
DTSTART:20241027T020000
RDATE:20250330T030000
TZOFFSETFROM:+0200
TZOFFSETTO:+0100
TZNAME:Europe/Berlin CET
END:STANDARD
BEGIN:STANDARD
DTSTART:20251026T020000
RDATE:20260329T030000
TZOFFSETFROM:+0200
TZOFFSETTO:+0100
TZNAME:Europe/Berlin CET
END:STANDARD
BEGIN:STANDARD
DTSTART:20261025T020000
RDATE:20270328T030000
TZOFFSETFROM:+0200
TZOFFSETTO:+0100
TZNAME:Europe/Berlin CET
END:STANDARD
BEGIN:DAYLIGHT
DTSTART:20231022T180000
RDATE:20231029T020000
TZOFFSETFROM:+0100
TZOFFSETTO:+0200
TZNAME:Europe/Berlin CEST
END:DAYLIGHT
BEGIN:DAYLIGHT
DTSTART:20240331T030000
RDATE:20241027T020000
TZOFFSETFROM:+0100
TZOFFSETTO:+0200
TZNAME:Europe/Berlin CEST
END:DAYLIGHT
BEGIN:DAYLIGHT
DTSTART:20250330T030000
RDATE:20251026T020000
TZOFFSETFROM:+0100
TZOFFSETTO:+0200
TZNAME:Europe/Berlin CEST
END:DAYLIGHT
BEGIN:DAYLIGHT
DTSTART:20260329T030000
RDATE:20261025T020000
TZOFFSETFROM:+0100
TZOFFSETTO:+0200
TZNAME:Europe/Berlin CEST
END:DAYLIGHT
END:VTIMEZONE
BEGIN:VEVENT
UID:7948716bedfab80850ac8f27ab19ec82
CATEGORIES:Unterstadt
CREATED:20241002T143537
SUMMARY:Quartierforum
LOCATION:FutuRaum
DESCRIPTION;ENCODING=QUOTED-PRINTABLE:\n\nSeit der Vorstellung des Projekts FutuRaum im letzten Jahr ist viel pas
 siert: Mit der 1. Innenstadtkonferenz, verschiedenen Workshops und AG's und
  der City factory zur Fressgasse wurden unterschiedlichen Akteur*innen und 
 Bewohner*innen Möglichkeiten zur Beteiligung geboten.\n \n Im Quartierforum
  geben Daphne Hadjiandreou-Boll und Stefanie Reischmann vom Fachbereich Dem
 okratie und Strategie der Stadt Mannheim und Petar Drakul, Beauftragter des
  Oberbürgermeisters für die Innenstadtentwicklung, interessierten Bewohner*
 innen und Engagierten im Quartier Infos zum aktuellen Stand, zu ersten Umse
 tzungsschritten und einen Ausblick auf den weiteren Verlauf.\n \n Wann: Die
 nstag, 22.10.2024, 18.00 - 20.00 Uhr\n Wo: FutuRaum in P 6, 9-10 (Plankenho
 fpassage), 68161 Mannheim\n \n
DTSTAMP:20260423T155023Z
DTSTART;TZID=Europe/Berlin:20241022T180000
DTEND;TZID=Europe/Berlin:20241022T200000
SEQUENCE:0
TRANSP:OPAQUE
END:VEVENT
END:VCALENDAR