BEGIN:VCALENDAR
VERSION:2.0
PRODID:-//jEvents 2.0 for Joomla//EN
CALSCALE:GREGORIAN
METHOD:PUBLISH
BEGIN:VTIMEZONE
TZID:Europe/Berlin
BEGIN:STANDARD
DTSTART:20231029T020000
RDATE:20240331T030000
TZOFFSETFROM:+0200
TZOFFSETTO:+0100
TZNAME:Europe/Berlin CET
END:STANDARD
BEGIN:STANDARD
DTSTART:20241027T020000
RDATE:20250330T030000
TZOFFSETFROM:+0200
TZOFFSETTO:+0100
TZNAME:Europe/Berlin CET
END:STANDARD
BEGIN:STANDARD
DTSTART:20251026T020000
RDATE:20260329T030000
TZOFFSETFROM:+0200
TZOFFSETTO:+0100
TZNAME:Europe/Berlin CET
END:STANDARD
BEGIN:STANDARD
DTSTART:20261025T020000
RDATE:20270328T030000
TZOFFSETFROM:+0200
TZOFFSETTO:+0100
TZNAME:Europe/Berlin CET
END:STANDARD
BEGIN:DAYLIGHT
DTSTART:20230927T160000
RDATE:20231029T020000
TZOFFSETFROM:+0100
TZOFFSETTO:+0200
TZNAME:Europe/Berlin CEST
END:DAYLIGHT
BEGIN:DAYLIGHT
DTSTART:20240331T030000
RDATE:20241027T020000
TZOFFSETFROM:+0100
TZOFFSETTO:+0200
TZNAME:Europe/Berlin CEST
END:DAYLIGHT
BEGIN:DAYLIGHT
DTSTART:20250330T030000
RDATE:20251026T020000
TZOFFSETFROM:+0100
TZOFFSETTO:+0200
TZNAME:Europe/Berlin CEST
END:DAYLIGHT
BEGIN:DAYLIGHT
DTSTART:20260329T030000
RDATE:20261025T020000
TZOFFSETFROM:+0100
TZOFFSETTO:+0200
TZNAME:Europe/Berlin CEST
END:DAYLIGHT
END:VTIMEZONE
BEGIN:VEVENT
UID:578f5365d872de15db60558640711a15
CATEGORIES:Sonderveranstaltungen, Unterstadt
CREATED:20240828T110046
SUMMARY:Uff de Gass! Stadtrallye der Demokratie
LOCATION:Café Filsbach
DESCRIPTION;ENCODING=QUOTED-PRINTABLE:<p>Die Stadtrallye der Demokratie führt uns auf Mannheims "Gassen" nicht nu
 r zu interessanten Orten und Denkmälern, sondern auch zu literarischen Bezü
 gen von überzeugten Revoltierenden, Wegbereitenden und Verfechtenden der Fr
 eiheit.</p><ul><li>Donnerstag, 26.09.2024 selbständige Tour</li><li>Freitag
 , 27.09.2024 begleitete Tour</li><li>Samstag, 28.09.2024 selbständige Tour<
 /li></ul><p>Jeweils 16.00 - 18.30 Uhr, Abholung/Start und Abgabe im Café Fi
 lsbach, I 6, 1-2.</p><p>Ein Projekt von Begegnungsstätte Westliche Untersta
 dt und Quartiermanagement Unterstadt.</p><p>Mehr Infos gibt es <a href="ind
 ex.php?Itemid=1659">hier</a>!</p><p>Mit freundlicher Unterstützung von Lite
 ratursommer I Der Freiheit eine Gasse! I Eine Veranstaltungsreihe der Baden
 -Württemberg Stiftung</p><p>Im Rahmen der einandertage Mannheim.</p>
DTSTAMP:20260421T190451Z
DTSTART;TZID=Europe/Berlin:20240927T160000
DTEND;TZID=Europe/Berlin:20240927T183000
SEQUENCE:0
TRANSP:OPAQUE
END:VEVENT
END:VCALENDAR