BEGIN:VCALENDAR
VERSION:2.0
PRODID:-//jEvents 2.0 for Joomla//EN
CALSCALE:GREGORIAN
METHOD:PUBLISH
BEGIN:VTIMEZONE
TZID:Europe/Berlin
BEGIN:STANDARD
DTSTART:20231029T020000
RDATE:20240331T030000
TZOFFSETFROM:+0200
TZOFFSETTO:+0100
TZNAME:Europe/Berlin CET
END:STANDARD
BEGIN:STANDARD
DTSTART:20241027T020000
RDATE:20250330T030000
TZOFFSETFROM:+0200
TZOFFSETTO:+0100
TZNAME:Europe/Berlin CET
END:STANDARD
BEGIN:STANDARD
DTSTART:20251026T020000
RDATE:20260329T030000
TZOFFSETFROM:+0200
TZOFFSETTO:+0100
TZNAME:Europe/Berlin CET
END:STANDARD
BEGIN:STANDARD
DTSTART:20261025T020000
RDATE:20270328T030000
TZOFFSETFROM:+0200
TZOFFSETTO:+0100
TZNAME:Europe/Berlin CET
END:STANDARD
BEGIN:DAYLIGHT
DTSTART:20230718T170000
RDATE:20231029T020000
TZOFFSETFROM:+0100
TZOFFSETTO:+0200
TZNAME:Europe/Berlin CEST
END:DAYLIGHT
BEGIN:DAYLIGHT
DTSTART:20240331T030000
RDATE:20241027T020000
TZOFFSETFROM:+0100
TZOFFSETTO:+0200
TZNAME:Europe/Berlin CEST
END:DAYLIGHT
BEGIN:DAYLIGHT
DTSTART:20250330T030000
RDATE:20251026T020000
TZOFFSETFROM:+0100
TZOFFSETTO:+0200
TZNAME:Europe/Berlin CEST
END:DAYLIGHT
BEGIN:DAYLIGHT
DTSTART:20260329T030000
RDATE:20261025T020000
TZOFFSETFROM:+0100
TZOFFSETTO:+0200
TZNAME:Europe/Berlin CEST
END:DAYLIGHT
END:VTIMEZONE
BEGIN:VEVENT
UID:24cdd6330367b37bab3559c08ed243d6
CATEGORIES:Unterstadt, Kunst + Kultur, Stadt Mannheim
CREATED:20240710T144738
SUMMARY:Kulturspaziergang "Rampenlicht und Farbenrausch"
LOCATION:zeitraumexit
DESCRIPTION;ENCODING=QUOTED-PRINTABLE:<p>Sehr herzlich laden Kulturamt Mannheim udn Quartiermanagement Unterstadt
  ein zum Kulturspaziergang „Rampenlicht und Farbenrausch“.</p><p>Den Auftak
 t bilden die neuen Räume von „zeitraumexit“ in T 6. Als nächste Station bes
 uchen wir eine Ateliergemeinschaft in U 6 und mäandern dann ein wenig durch
  die Quadrate an weiteren Kulturstandorten vorbei in Richtung „EinTanzHaus“
 . Zum Abschluss gibt uns das „theater/haus G 7“ Einblicke in seine Einricht
 ung. Dort erhalten wir im lauschigen Hof außerdem eine kleine Erfrischung.<
 /p><div><strong>Wann: 18.07.2024, 17.00 Uhr</strong></div><div><strong>Wo: 
 zeitraumexit // T 6, 18 // 68161 Mannheim</strong></div><p>Die Teilnahme is
 t kostenlos.</p><p>&nbsp;</p>
DTSTAMP:20260423T173652Z
DTSTART;TZID=Europe/Berlin:20240718T170000
SEQUENCE:0
TRANSP:OPAQUE
END:VEVENT
END:VCALENDAR