BEGIN:VCALENDAR
VERSION:2.0
PRODID:-//jEvents 2.0 for Joomla//EN
CALSCALE:GREGORIAN
METHOD:PUBLISH
BEGIN:VTIMEZONE
TZID:Europe/Berlin
BEGIN:STANDARD
DTSTART:20231029T020000
RDATE:20240331T030000
TZOFFSETFROM:+0200
TZOFFSETTO:+0100
TZNAME:Europe/Berlin CET
END:STANDARD
BEGIN:STANDARD
DTSTART:20241027T020000
RDATE:20250330T030000
TZOFFSETFROM:+0200
TZOFFSETTO:+0100
TZNAME:Europe/Berlin CET
END:STANDARD
BEGIN:STANDARD
DTSTART:20251026T020000
RDATE:20260329T030000
TZOFFSETFROM:+0200
TZOFFSETTO:+0100
TZNAME:Europe/Berlin CET
END:STANDARD
BEGIN:STANDARD
DTSTART:20261025T020000
RDATE:20270328T030000
TZOFFSETFROM:+0200
TZOFFSETTO:+0100
TZNAME:Europe/Berlin CET
END:STANDARD
BEGIN:DAYLIGHT
DTSTART:20230716T100000
RDATE:20231029T020000
TZOFFSETFROM:+0100
TZOFFSETTO:+0200
TZNAME:Europe/Berlin CEST
END:DAYLIGHT
BEGIN:DAYLIGHT
DTSTART:20240331T030000
RDATE:20241027T020000
TZOFFSETFROM:+0100
TZOFFSETTO:+0200
TZNAME:Europe/Berlin CEST
END:DAYLIGHT
BEGIN:DAYLIGHT
DTSTART:20250330T030000
RDATE:20251026T020000
TZOFFSETFROM:+0100
TZOFFSETTO:+0200
TZNAME:Europe/Berlin CEST
END:DAYLIGHT
BEGIN:DAYLIGHT
DTSTART:20260329T030000
RDATE:20261025T020000
TZOFFSETFROM:+0100
TZOFFSETTO:+0200
TZNAME:Europe/Berlin CEST
END:DAYLIGHT
END:VTIMEZONE
BEGIN:VEVENT
UID:852148a84038b9ede5e241802aa3979c
CATEGORIES:Unterstadt, Kinder
CREATED:20240710T144214
SUMMARY:Familienklatsch unterwegs - Wir entdecken den Herzogenriedpark
LOCATION:Herzogenriedpark Haupteingang
DESCRIPTION;ENCODING=QUOTED-PRINTABLE:<p>Bei unserem nächsten Familienklatsch sind wir wieder unterwegs. Diesmal 
 entdecken wir den Herzogenriedpark und sprechen über Ideen und Tipps für Sp
 iele und Beschäftigungsmöglichkeiten auf Reisen und Autofahrten. <br />Bitt
 e bringt euch etwas Leckeres mit.</p><div><strong>Wann: 16.07.2024, 10.00 U
 hr</strong></div><div><strong>Wo: Herzogenriedpark Haupteingang //Max-Josep
 h-Str. 64 // 68169 Mannheim</strong></div><div>Die Teilnahme ist kostenlos.
 <br /><br />Ein Kooperationsprojekt mit Begegnungsstätte Westliche Untersta
 dt/<a href="https://www.facebook.com/profile.php?id=100063464832685&amp;__t
 n__=-]K*F">Café Filsbach</a> mit freundlicher Unterstützung von Stadt Mannh
 eim, Beauftragter für Migration und Integration</div>
DTSTAMP:20260423T173625Z
DTSTART;TZID=Europe/Berlin:20240716T100000
SEQUENCE:0
TRANSP:OPAQUE
END:VEVENT
END:VCALENDAR