BEGIN:VCALENDAR
VERSION:2.0
PRODID:-//jEvents 2.0 for Joomla//EN
CALSCALE:GREGORIAN
METHOD:PUBLISH
BEGIN:VTIMEZONE
TZID:Europe/Berlin
BEGIN:STANDARD
DTSTART:20231029T020000
RDATE:20240331T030000
TZOFFSETFROM:+0200
TZOFFSETTO:+0100
TZNAME:Europe/Berlin CET
END:STANDARD
BEGIN:STANDARD
DTSTART:20241027T020000
RDATE:20250330T030000
TZOFFSETFROM:+0200
TZOFFSETTO:+0100
TZNAME:Europe/Berlin CET
END:STANDARD
BEGIN:STANDARD
DTSTART:20251026T020000
RDATE:20260329T030000
TZOFFSETFROM:+0200
TZOFFSETTO:+0100
TZNAME:Europe/Berlin CET
END:STANDARD
BEGIN:STANDARD
DTSTART:20261025T020000
RDATE:20270328T030000
TZOFFSETFROM:+0200
TZOFFSETTO:+0100
TZNAME:Europe/Berlin CET
END:STANDARD
BEGIN:DAYLIGHT
DTSTART:20230629T110000
RDATE:20231029T020000
TZOFFSETFROM:+0100
TZOFFSETTO:+0200
TZNAME:Europe/Berlin CEST
END:DAYLIGHT
BEGIN:DAYLIGHT
DTSTART:20240331T030000
RDATE:20241027T020000
TZOFFSETFROM:+0100
TZOFFSETTO:+0200
TZNAME:Europe/Berlin CEST
END:DAYLIGHT
BEGIN:DAYLIGHT
DTSTART:20250330T030000
RDATE:20251026T020000
TZOFFSETFROM:+0100
TZOFFSETTO:+0200
TZNAME:Europe/Berlin CEST
END:DAYLIGHT
BEGIN:DAYLIGHT
DTSTART:20260329T030000
RDATE:20261025T020000
TZOFFSETFROM:+0100
TZOFFSETTO:+0200
TZNAME:Europe/Berlin CEST
END:DAYLIGHT
END:VTIMEZONE
BEGIN:VEVENT
UID:6b55c0d5508819bf6b65190e9d890468
CATEGORIES:Unterstadt, Kinder, Kunst + Kultur, Stadt Mannheim
CREATED:20240618T122359
SUMMARY:Spielraum Stadt 
LOCATION:H 4-Wache
DESCRIPTION;ENCODING=QUOTED-PRINTABLE:<p>Wir sind dabei!</p><p>Die verlängerte Jungbuschstraße wird wieder zum „<
 a href="https://monnem-bike.de/monnem-bike-festival-2024/">Spielraum Stadt<
 /a>“. Von 11 bis 22 Uhr wird der Bereich zwischen G3/H3 und G7/H7 zur Spiel
 - und Spaßfläche. Auf der Fahrbahn als Mittelpunkt des Geschehens entsteht 
 ein neuer Begegnungsort mitten in den Quadraten.</p><p>Vom Stand des Quarti
 ermanagement Unterstadt bei H 4, 1 aus starten um 11.00 Uhr und um 14.00 Uh
 r jeweils sketch walks im Rahmen des Projekts <a href="beitrag-urbaner-wand
 el.html">URBANER WANDEL IN DER NACHBARSCHAFT VON T 4 / T 5</a> in Kooperati
 on mit dem Kulturamt Mannheim. Mit Zeichenmaterial ausgestattet machen sich
  die Teilnehmer*innen gemeinsam mit den Organisatorinnen Vivien Rebsdat und
  Kerstin Boxhorn von <a href="https://urbansketchersmannheim.blogspot.com/"
 >urban sketchers Mannheim</a> auf die Suche nach ihren Motiven. Für Anfänge
 r*innen und spontane Teilnehmer*innen halten wir einen kleinen Materialvorr
 at bereit. Wir freuen uns über Skizzenspenden, um diese bei Spielraum Stadt
  auszustellen.</p><p>An unserem Stand gibt es darüber hinaus weitere Mitmac
 hangebote, ein spannendes Quiz, Infos und eine kleine chill area für Große 
 und Kleine Besucher*innen.</p>
DTSTAMP:20260423T205039Z
DTSTART;TZID=Europe/Berlin:20240629T110000
DTEND;TZID=Europe/Berlin:20240629T170000
SEQUENCE:0
TRANSP:OPAQUE
END:VEVENT
END:VCALENDAR