BEGIN:VCALENDAR
VERSION:2.0
PRODID:-//jEvents 2.0 for Joomla//EN
CALSCALE:GREGORIAN
METHOD:PUBLISH
BEGIN:VTIMEZONE
TZID:Europe/Berlin
BEGIN:STANDARD
DTSTART:20231029T020000
RDATE:20240331T030000
TZOFFSETFROM:+0200
TZOFFSETTO:+0100
TZNAME:Europe/Berlin CET
END:STANDARD
BEGIN:STANDARD
DTSTART:20241027T020000
RDATE:20250330T030000
TZOFFSETFROM:+0200
TZOFFSETTO:+0100
TZNAME:Europe/Berlin CET
END:STANDARD
BEGIN:STANDARD
DTSTART:20251026T020000
RDATE:20260329T030000
TZOFFSETFROM:+0200
TZOFFSETTO:+0100
TZNAME:Europe/Berlin CET
END:STANDARD
BEGIN:STANDARD
DTSTART:20261025T020000
RDATE:20270328T030000
TZOFFSETFROM:+0200
TZOFFSETTO:+0100
TZNAME:Europe/Berlin CET
END:STANDARD
BEGIN:DAYLIGHT
DTSTART:20230607T103000
RDATE:20231029T020000
TZOFFSETFROM:+0100
TZOFFSETTO:+0200
TZNAME:Europe/Berlin CEST
END:DAYLIGHT
BEGIN:DAYLIGHT
DTSTART:20240331T030000
RDATE:20241027T020000
TZOFFSETFROM:+0100
TZOFFSETTO:+0200
TZNAME:Europe/Berlin CEST
END:DAYLIGHT
BEGIN:DAYLIGHT
DTSTART:20250330T030000
RDATE:20251026T020000
TZOFFSETFROM:+0100
TZOFFSETTO:+0200
TZNAME:Europe/Berlin CEST
END:DAYLIGHT
BEGIN:DAYLIGHT
DTSTART:20260329T030000
RDATE:20261025T020000
TZOFFSETFROM:+0100
TZOFFSETTO:+0200
TZNAME:Europe/Berlin CEST
END:DAYLIGHT
END:VTIMEZONE
BEGIN:VEVENT
UID:e64f3816db08bd60d2f5abe2483e14a1
CATEGORIES:Unterstadt, Kinder
CREATED:20240528T162348
SUMMARY:Familienklatsch unterwegs - Eltern-Kind-Yoga im Park
LOCATION:Unterer Luisenpark
DESCRIPTION;ENCODING=QUOTED-PRINTABLE:\n\nMit Yogalehrerin Larissa Neubert\n\n\nTreffpunkt: Unterer Luisenpark, B
 assermannstr. 32, 68165 Mannheim.\n\n\nBringt eine Yogamatte und etwas zu t
 rinken mit.\n
CONTACT:Diese E-Mail-Adresse ist vor Spambots geschützt! Zur Anzeige muss JavaScript eingeschaltet sein!
				document.getElementById('cloak043ecef10474ada395e5fe57faad1d8c').innerHTML = '';
				var prefix = '&#109;a' + 'i&#108;' + '&#116;o';
				var path = 'hr' + 'ef' + '=';
				var addy043ecef10474ada395e5fe57faad1d8c = 'f&#97;m&#105;l&#105;&#101;nkl&#97;tsch' + '&#64;';
				addy043ecef10474ada395e5fe57faad1d8c = addy043ecef10474ada395e5fe57faad1d8c + 'm&#97;-&#117;nt&#101;rst&#97;dt' + '&#46;' + 'd&#101;';
				var addy_text043ecef10474ada395e5fe57faad1d8c = 'f&#97;m&#105;l&#105;&#101;nkl&#97;tsch' + '&#64;' + 'm&#97;-&#117;nt&#101;rst&#97;dt' + '&#46;' + 'd&#101;';document.getElementById('cloak043ecef10474ada395e5fe57faad1d8c').innerHTML += ''+addy_text043ecef10474ada395e5fe57faad1d8c+'';
		, Tel. 0178 8903901 
DTSTAMP:20260423T185943Z
DTSTART;TZID=Europe/Berlin:20240607T103000
DTEND;TZID=Europe/Berlin:20240607T133000
SEQUENCE:0
TRANSP:OPAQUE
END:VEVENT
END:VCALENDAR