BEGIN:VCALENDAR
VERSION:2.0
PRODID:-//jEvents 2.0 for Joomla//EN
CALSCALE:GREGORIAN
METHOD:PUBLISH
BEGIN:VTIMEZONE
TZID:Europe/Berlin
BEGIN:STANDARD
DTSTART:20231029T020000
RDATE:20240331T030000
TZOFFSETFROM:+0200
TZOFFSETTO:+0100
TZNAME:Europe/Berlin CET
END:STANDARD
BEGIN:STANDARD
DTSTART:20241027T020000
RDATE:20250330T030000
TZOFFSETFROM:+0200
TZOFFSETTO:+0100
TZNAME:Europe/Berlin CET
END:STANDARD
BEGIN:STANDARD
DTSTART:20251026T020000
RDATE:20260329T030000
TZOFFSETFROM:+0200
TZOFFSETTO:+0100
TZNAME:Europe/Berlin CET
END:STANDARD
BEGIN:STANDARD
DTSTART:20261025T020000
RDATE:20270328T030000
TZOFFSETFROM:+0200
TZOFFSETTO:+0100
TZNAME:Europe/Berlin CET
END:STANDARD
BEGIN:DAYLIGHT
DTSTART:20230425T100000
RDATE:20231029T020000
TZOFFSETFROM:+0100
TZOFFSETTO:+0200
TZNAME:Europe/Berlin CEST
END:DAYLIGHT
BEGIN:DAYLIGHT
DTSTART:20240331T030000
RDATE:20241027T020000
TZOFFSETFROM:+0100
TZOFFSETTO:+0200
TZNAME:Europe/Berlin CEST
END:DAYLIGHT
BEGIN:DAYLIGHT
DTSTART:20250330T030000
RDATE:20251026T020000
TZOFFSETFROM:+0100
TZOFFSETTO:+0200
TZNAME:Europe/Berlin CEST
END:DAYLIGHT
BEGIN:DAYLIGHT
DTSTART:20260329T030000
RDATE:20261025T020000
TZOFFSETFROM:+0100
TZOFFSETTO:+0200
TZNAME:Europe/Berlin CEST
END:DAYLIGHT
END:VTIMEZONE
BEGIN:VEVENT
UID:acadb85530a9f85741115b4afceaa3f9
CATEGORIES:Unterstadt, Kinder
CREATED:20240422T101919
SUMMARY:Familienklatsch aktiv
LOCATION:Café Filsbach
DESCRIPTION;ENCODING=QUOTED-PRINTABLE:<div class="" dir="auto"><div class="x1iorvi4 x1pi30zi x1l90r2v x1swvt13" d
 ata-ad-comet-preview="message" data-ad-preview="message" id=":rh:"><div cla
 ss="x78zum5 xdt5ytf xz62fqu x16ldp7u"><div class="xu06os2 x1ok221b"><div cl
 ass="xdj266r x11i5rnm xat24cr x1mh8g0r x1vvkbs x126k92a"><div dir="auto"><s
 pan class="x3nfvp2 x1j61x8r x1fcty0u xdj266r xhhsvwb xat24cr xgzva0m xxymvp
 z xlup9mm x1kky2od"></span>Beim nächsten Familienklatsch am 25.04.2024 lade
 n wir zum Brunch, zum Austausch und zum Basteln ein.</div></div><div class=
 "x11i5rnm xat24cr x1mh8g0r x1vvkbs xtlvy1s x126k92a"><div dir="auto">&nbsp;
 </div><div dir="auto">Ein Kooperationsprojekt mit Begegnungsstätte Westlich
 e Unterstadt/<a class="x1i10hfl xjbqb8w x1ejq31n xd10rxx x1sy0etr x17r0tee 
 x972fbf xcfux6l x1qhh985 xm0m39n x9f619 x1ypdohk xt0psk2 xe8uvvx xdj266r x1
 1i5rnm xat24cr x1mh8g0r xexx8yu x4uap5 x18d9i69 xkhd6sd x16tdsg8 x1hl2dhg x
 ggy1nq x1a2a7pz xt0b8zv x1fey0fg xo1l8bm" href="https://www.facebook.com/pr
 ofile.php?id=100063464832685&amp;__cft__[0]=AZU4uvCYDNDDzwA128DujGSalBGCIpB
 lQ86gmZeUF39lmccbSNfLtqnxXjsHp2LPp5f7i1HG7p7T6VfKKxblGAg1oCkMAi-GE86jZpHYB0
 OSPx9KxN01WwpSTkU2YPNpE8qpLJCMDBp54jhx24gkJkWHQU7b_DAlGyHXIDs8crUFluJBcHq2w
 YjWIW8g58GVhbA&amp;__tn__=-]K-R" role="link" tabindex="0"><span class="xt0p
 sk2">Café Filsbach</span></a> mit freundlicher Unterstützung von Stadt Mann
 heim, Beauftragter für Migration und Integration</div></div></div></div></d
 iv></div>
DTSTAMP:20260424T044600Z
DTSTART;TZID=Europe/Berlin:20240425T100000
DTEND;TZID=Europe/Berlin:20240425T130000
SEQUENCE:0
TRANSP:OPAQUE
END:VEVENT
END:VCALENDAR